
BEGIN:VCALENDAR
VERSION:2.0
PRODID:-//Etkinlikvarmi//Takvime Ekle//TR
BEGIN:VEVENT
UID:69e4d6a9a2051@etkinlikvarmi.com
DTSTAMP:20260419T132041Z
DTSTART:20260425T150000
DTEND:20260425T170000
SUMMARY:Labubu Renklerin Peşinde
LOCATION:Korkut Ata Kültür ve Kongre Merkezi, Ankara
DESCRIPTION:Labubu Renklerin Peşinde etkinliği Ankara şehrinde Korkut Ata Kültür ve Kongre Merkezi mekanında.
END:VEVENT
END:VCALENDAR
