
BEGIN:VCALENDAR
VERSION:2.0
PRODID:-//Etkinlikvarmi//Takvime Ekle//TR
BEGIN:VEVENT
UID:69e505fc3cb18@etkinlikvarmi.com
DTSTAMP:20260419T164236Z
DTSTART:20260424T190000
DTEND:20260424T210000
SUMMARY:Boğaz Bahçeleri: Peyzaj Maketi
LOCATION:Pera Müzesi, İstanbul
DESCRIPTION:Boğaz Bahçeleri: Peyzaj Maketi etkinliği İstanbul şehrinde Pera Müzesi mekanında.
END:VEVENT
END:VCALENDAR
