
BEGIN:VCALENDAR
VERSION:2.0
PRODID:-//Etkinlikvarmi//Takvime Ekle//TR
BEGIN:VEVENT
UID:69e4d8bb414cc@etkinlikvarmi.com
DTSTAMP:20260419T132931Z
DTSTART:20260510T140000
DTEND:20260510T160000
SUMMARY:Oz Büyücüsü Müzikali
LOCATION:Bostanlı Suat Taşer Tiy., İzmir
DESCRIPTION:Oz Büyücüsü Müzikali etkinliği İzmir şehrinde Bostanlı Suat Taşer Tiy. mekanında.
END:VEVENT
END:VCALENDAR
