
BEGIN:VCALENDAR
VERSION:2.0
PRODID:-//Etkinlikvarmi//Takvime Ekle//TR
BEGIN:VEVENT
UID:69e9ede547972@etkinlikvarmi.com
DTSTAMP:20260423T100109Z
DTSTART:20260515T203000
DTEND:20260515T223000
SUMMARY:Mikail Aslan
LOCATION:Diyarbakır Sezai Karakoç KKM, Diyarbakır
DESCRIPTION:Mikail Aslan etkinliği Diyarbakır şehrinde Diyarbakır Sezai Karakoç KKM mekanında.
END:VEVENT
END:VCALENDAR
