
BEGIN:VCALENDAR
VERSION:2.0
PRODID:-//Etkinlikvarmi//Takvime Ekle//TR
BEGIN:VEVENT
UID:69e4d6f0f2f80@etkinlikvarmi.com
DTSTAMP:20260419T132152Z
DTSTART:20260503T150000
DTEND:20260503T170000
SUMMARY:Ringo'nun Dünyası

LOCATION:Watergarden Performans Merkezi, İstanbul
DESCRIPTION:Ringo'nun Dünyası
 etkinliği İstanbul şehrinde Watergarden Performans Merkezi mekanında.
END:VEVENT
END:VCALENDAR
