
BEGIN:VCALENDAR
VERSION:2.0
PRODID:-//Etkinlikvarmi//Takvime Ekle//TR
BEGIN:VEVENT
UID:69e4c29164f43@etkinlikvarmi.com
DTSTAMP:20260419T115457Z
DTSTART:20260419T200000
DTEND:20260419T220000
SUMMARY:Yıldız Artıkları
LOCATION:Kadıköy İkincikat, İstanbul
DESCRIPTION:Yıldız Artıkları etkinliği İstanbul şehrinde Kadıköy İkincikat mekanında.
END:VEVENT
END:VCALENDAR
