
BEGIN:VCALENDAR
VERSION:2.0
PRODID:-//Etkinlikvarmi//Takvime Ekle//TR
BEGIN:VEVENT
UID:69e4db682698c@etkinlikvarmi.com
DTSTAMP:20260419T134056Z
DTSTART:20260422T223000
DTEND:20260423T003000
SUMMARY:Dj Hakan Küfündür
LOCATION:Hayal Kahvesi Bahçeşehir , İstanbul
DESCRIPTION:Dj Hakan Küfündür etkinliği İstanbul şehrinde Hayal Kahvesi Bahçeşehir  mekanında.
END:VEVENT
END:VCALENDAR
