
BEGIN:VCALENDAR
VERSION:2.0
PRODID:-//Etkinlikvarmi//Takvime Ekle//TR
BEGIN:VEVENT
UID:69e4d931a89e7@etkinlikvarmi.com
DTSTAMP:20260419T133129Z
DTSTART:20260506T180000
DTEND:20260506T200000
SUMMARY:Ali Babanın Çiftliği
LOCATION:Necip Fazıl Kısakürek K.M., Erzurum
DESCRIPTION:Ali Babanın Çiftliği etkinliği Erzurum şehrinde Necip Fazıl Kısakürek K.M. mekanında.
END:VEVENT
END:VCALENDAR
