
BEGIN:VCALENDAR
VERSION:2.0
PRODID:-//Etkinlikvarmi//Takvime Ekle//TR
BEGIN:VEVENT
UID:69e4daba85793@etkinlikvarmi.com
DTSTAMP:20260419T133802Z
DTSTART:20260419T213000
DTEND:20260419T233000
SUMMARY:Perdenin Ardındakiler
LOCATION:Holly Stone Ankara, Ankara
DESCRIPTION:Perdenin Ardındakiler etkinliği Ankara şehrinde Holly Stone Ankara mekanında.
END:VEVENT
END:VCALENDAR
