
BEGIN:VCALENDAR
VERSION:2.0
PRODID:-//Etkinlikvarmi//Takvime Ekle//TR
BEGIN:VEVENT
UID:69e89a1a5f149@etkinlikvarmi.com
DTSTAMP:20260422T095122Z
DTSTART:20260429T203000
DTEND:20260429T223000
SUMMARY:Sis ve Gece

LOCATION:Bakırköy Butik Sahne, İstanbul
DESCRIPTION:Sis ve Gece
 etkinliği İstanbul şehrinde Bakırköy Butik Sahne mekanında.
END:VEVENT
END:VCALENDAR
