
BEGIN:VCALENDAR
VERSION:2.0
PRODID:-//Etkinlikvarmi//Takvime Ekle//TR
BEGIN:VEVENT
UID:69e89ac115e7a@etkinlikvarmi.com
DTSTAMP:20260422T095409Z
DTSTART:20260503T180000
DTEND:20260503T200000
SUMMARY:Şahları Da Vururlar
LOCATION:Ses Tiyatrosu, İstanbul
DESCRIPTION:Şahları Da Vururlar etkinliği İstanbul şehrinde Ses Tiyatrosu mekanında.
END:VEVENT
END:VCALENDAR
