
BEGIN:VCALENDAR
VERSION:2.0
PRODID:-//Etkinlikvarmi//Takvime Ekle//TR
BEGIN:VEVENT
UID:69e4d931a7ff4@etkinlikvarmi.com
DTSTAMP:20260419T133129Z
DTSTART:20260503T140000
DTEND:20260503T160000
SUMMARY:Çizmeli Kedi
LOCATION:Serdivan Bld. Kültür Kongre Merkezi, Sakarya
DESCRIPTION:Çizmeli Kedi etkinliği Sakarya şehrinde Serdivan Bld. Kültür Kongre Merkezi mekanında.
END:VEVENT
END:VCALENDAR
