
BEGIN:VCALENDAR
VERSION:2.0
PRODID:-//Etkinlikvarmi//Takvime Ekle//TR
BEGIN:VEVENT
UID:69e4d90701845@etkinlikvarmi.com
DTSTAMP:20260419T133047Z
DTSTART:20260509T130000
DTEND:20260509T150000
SUMMARY:Bremen Mızıkacıları Paris'te

LOCATION:Leyla Gencer Opera ve Sanat Merkezi, İstanbul
DESCRIPTION:Bremen Mızıkacıları Paris'te
 etkinliği İstanbul şehrinde Leyla Gencer Opera ve Sanat Merkezi mekanında.
END:VEVENT
END:VCALENDAR
