
BEGIN:VCALENDAR
VERSION:2.0
PRODID:-//Etkinlikvarmi//Takvime Ekle//TR
BEGIN:VEVENT
UID:69e9f45364fdd@etkinlikvarmi.com
DTSTAMP:20260423T102835Z
DTSTART:20260426T133000
DTEND:20260426T153000
SUMMARY:Çocuk Sirki
LOCATION:Nurettin Ardıçoğlu Kültür Merkezi, Elazığ
DESCRIPTION:Çocuk Sirki etkinliği Elazığ şehrinde Nurettin Ardıçoğlu Kültür Merkezi mekanında.
END:VEVENT
END:VCALENDAR
