
BEGIN:VCALENDAR
VERSION:2.0
PRODID:-//Etkinlikvarmi//Takvime Ekle//TR
BEGIN:VEVENT
UID:69e4daf7f393f@etkinlikvarmi.com
DTSTAMP:20260419T133903Z
DTSTART:20260422T210000
DTEND:20260422T230000
SUMMARY:Take Over Party
LOCATION:IF Performance Hall Tepe Prime, Ankara
DESCRIPTION:Take Over Party etkinliği Ankara şehrinde IF Performance Hall Tepe Prime mekanında.
END:VEVENT
END:VCALENDAR
